BEGIN:VCALENDAR
VERSION:2.0
PRODID:icalendar-ruby
CALSCALE:GREGORIAN
METHOD:PUBLISH
BEGIN:VEVENT
DTSTAMP:20260425T040446Z
UID:2939202c-1817-4d4e-8a7b-8cf752ed27a6
DTSTART:20260425T140000
DTEND:20260426T020000
DESCRIPTION:<p><span>The 11th Edition of Ultra South Africa is here - and t
 his time\, JOHANNESBURG kicks things off! CAPE TOWN\, get ready - we’re 
 bringing the heat your way\, and with a public holiday on Monday\, you alr
 eady know it’s going down! 🔥</span></p><p><br></p><p><span>#UltraSA20
 26</span></p>
LOCATION:Cnr Rand Show & Nasrec Road\, Johannesburg\, Gauteng\, 2091
SUMMARY:Ultra South Africa 2026 - Johannesburg
URL;VALUE=URI:https://ultrasa.howler.co.za/ultrajhb26
END:VEVENT
END:VCALENDAR
